BEGIN:VCALENDAR
VERSION:2.0
PRODID:-//Cavan Sports Partnership - ECPv6.15.20//NONSGML v1.0//EN
CALSCALE:GREGORIAN
METHOD:PUBLISH
X-WR-CALNAME:Cavan Sports Partnership
X-ORIGINAL-URL:https://cavansportspartnership.ie
X-WR-CALDESC:Events for Cavan Sports Partnership
REFRESH-INTERVAL;VALUE=DURATION:PT1H
X-Robots-Tag:noindex
X-PUBLISHED-TTL:PT1H
BEGIN:VTIMEZONE
TZID:Europe/Dublin
BEGIN:STANDARD
TZOFFSETFROM:+0000
TZOFFSETTO:+0100
TZNAME:IST
DTSTART:20240331T010000
END:STANDARD
BEGIN:DAYLIGHT
TZOFFSETFROM:+0100
TZOFFSETTO:+0000
TZNAME:GMT
DTSTART:20241027T010000
END:DAYLIGHT
BEGIN:STANDARD
TZOFFSETFROM:+0000
TZOFFSETTO:+0100
TZNAME:IST
DTSTART:20250330T010000
END:STANDARD
BEGIN:DAYLIGHT
TZOFFSETFROM:+0100
TZOFFSETTO:+0000
TZNAME:GMT
DTSTART:20251026T010000
END:DAYLIGHT
BEGIN:STANDARD
TZOFFSETFROM:+0000
TZOFFSETTO:+0100
TZNAME:IST
DTSTART:20260329T010000
END:STANDARD
BEGIN:DAYLIGHT
TZOFFSETFROM:+0100
TZOFFSETTO:+0000
TZNAME:GMT
DTSTART:20261025T010000
END:DAYLIGHT
END:VTIMEZONE
BEGIN:VEVENT
DTSTART;TZID=Europe/Dublin:20250924T190000
DTEND;TZID=Europe/Dublin:20251029T200000
DTSTAMP:20260422T095404
CREATED:20250910T090935Z
LAST-MODIFIED:20250910T095155Z
UID:3303-1758740400-1761768000@cavansportspartnership.ie
SUMMARY:Women on the Move- Yoga Mullagh
DESCRIPTION:Yoga- 6 week programme \nStart Date: Wednesday 24th of September for 6 weeks  \nTime: 7pm \nLocation: Mullagh Parish Hall\, A82 X738 \nCost: €30  \nThis 6-week yoga programme is perfect for beginners of all ages and abilities. No experience needed — just a willingness to try something new and take time for yourself. \n*Please bring your own mat* \nCancellation Policy \nCancellations must be made at least 48 hours prior to the scheduled start of the programme/event.\nCancellations made within 48 hours of the start time will not be eligible for a refund. This includes any deposits or full payments made in advance.
URL:https://cavansportspartnership.ie/event/women-on-the-move-yoga-mullagh/
LOCATION:Mullagh
ATTACH;FMTTYPE=image/jpeg:https://cavansportspartnership.ie/wp-content/uploads/2025/09/Poster-.jpg
ORGANIZER;CN="Cavan Sports Partnership":MAILTO:info@cavansportspartnership.ie
END:VEVENT
END:VCALENDAR