BEGIN:VCALENDAR
VERSION:2.0
PRODID:-//Cavan Sports Partnership - ECPv6.15.20//NONSGML v1.0//EN
CALSCALE:GREGORIAN
METHOD:PUBLISH
X-WR-CALNAME:Cavan Sports Partnership
X-ORIGINAL-URL:https://cavansportspartnership.ie
X-WR-CALDESC:Events for Cavan Sports Partnership
REFRESH-INTERVAL;VALUE=DURATION:PT1H
X-Robots-Tag:noindex
X-PUBLISHED-TTL:PT1H
BEGIN:VTIMEZONE
TZID:Europe/Dublin
BEGIN:STANDARD
TZOFFSETFROM:+0000
TZOFFSETTO:+0100
TZNAME:IST
DTSTART:20250330T010000
END:STANDARD
BEGIN:DAYLIGHT
TZOFFSETFROM:+0100
TZOFFSETTO:+0000
TZNAME:GMT
DTSTART:20251026T010000
END:DAYLIGHT
BEGIN:STANDARD
TZOFFSETFROM:+0000
TZOFFSETTO:+0100
TZNAME:IST
DTSTART:20260329T010000
END:STANDARD
BEGIN:DAYLIGHT
TZOFFSETFROM:+0100
TZOFFSETTO:+0000
TZNAME:GMT
DTSTART:20261025T010000
END:DAYLIGHT
BEGIN:STANDARD
TZOFFSETFROM:+0000
TZOFFSETTO:+0100
TZNAME:IST
DTSTART:20270328T010000
END:STANDARD
BEGIN:DAYLIGHT
TZOFFSETFROM:+0100
TZOFFSETTO:+0000
TZNAME:GMT
DTSTART:20271031T010000
END:DAYLIGHT
END:VTIMEZONE
BEGIN:VEVENT
DTSTART;TZID=Europe/Dublin:20260402T183000
DTEND;TZID=Europe/Dublin:20260402T213000
DTSTAMP:20260425T125623
CREATED:20251218T095250Z
LAST-MODIFIED:20260402T083223Z
UID:4735-1775154600-1775165400@cavansportspartnership.ie
SUMMARY:Safeguarding 2 - Club Children's Officer (2nd April)
DESCRIPTION:Join us for Safeguarding 2 – Club Children’s Officer\n\n\n\nA person appointed to the Club Children’s Officer position in a club must have completed safeguarding 1 (Child Welfare & Protection Basic Awareness workshop) and should complete the NEW Club Children’s Officer 3 hour workshop.\n\nThis course will help the Club Children’s Officer to carry out the function of their role in the club and support the implementation of best practice in the club.\n\n\n\n Date: Thursday\, April 2nd\n Time: 6:30pm – 9:30pm\n Location: Microsoft Teams\n Cost: €15pp\n\n\n\n\nParticipants must be 18yrs or older. Places are limited\, pre-registration is essential.\n\n\n\nCancellations must be made at least 48 hours prior to the scheduled start of the programme/event. \nCancellations made within 48 hours of the start time will not be eligible for a refund. This includes any deposits or full payments made in advance.
URL:https://cavansportspartnership.ie/event/safeguarding-2-childrens-officer-3/
LOCATION:Microsoft Teams
CATEGORIES:Workshops and Info Sessions
ATTACH;FMTTYPE=image/png:https://cavansportspartnership.ie/wp-content/uploads/2025/12/Safeguarding-2.png
ORGANIZER;CN="Cavan Sports Partnership":MAILTO:info@cavansportspartnership.ie
END:VEVENT
END:VCALENDAR