BEGIN:VCALENDAR
VERSION:2.0
PRODID:-//Cavan Sports Partnership - ECPv6.15.20//NONSGML v1.0//EN
CALSCALE:GREGORIAN
METHOD:PUBLISH
X-WR-CALNAME:Cavan Sports Partnership
X-ORIGINAL-URL:https://cavansportspartnership.ie
X-WR-CALDESC:Events for Cavan Sports Partnership
REFRESH-INTERVAL;VALUE=DURATION:PT1H
X-Robots-Tag:noindex
X-PUBLISHED-TTL:PT1H
BEGIN:VTIMEZONE
TZID:Europe/Dublin
BEGIN:STANDARD
TZOFFSETFROM:+0000
TZOFFSETTO:+0100
TZNAME:IST
DTSTART:20240331T010000
END:STANDARD
BEGIN:DAYLIGHT
TZOFFSETFROM:+0100
TZOFFSETTO:+0000
TZNAME:GMT
DTSTART:20241027T010000
END:DAYLIGHT
BEGIN:STANDARD
TZOFFSETFROM:+0000
TZOFFSETTO:+0100
TZNAME:IST
DTSTART:20250330T010000
END:STANDARD
BEGIN:DAYLIGHT
TZOFFSETFROM:+0100
TZOFFSETTO:+0000
TZNAME:GMT
DTSTART:20251026T010000
END:DAYLIGHT
BEGIN:STANDARD
TZOFFSETFROM:+0000
TZOFFSETTO:+0100
TZNAME:IST
DTSTART:20260329T010000
END:STANDARD
BEGIN:DAYLIGHT
TZOFFSETFROM:+0100
TZOFFSETTO:+0000
TZNAME:GMT
DTSTART:20261025T010000
END:DAYLIGHT
END:VTIMEZONE
BEGIN:VEVENT
DTSTART;TZID=Europe/Dublin:20250828T100000
DTEND;TZID=Europe/Dublin:20251002T110000
DTSTAMP:20260421T112850
CREATED:20250806T141238Z
LAST-MODIFIED:20250806T141801Z
UID:2572-1756375200-1759402800@cavansportspartnership.ie
SUMMARY:Active Adults 55+ Intro to Golf for Women
DESCRIPTION:*Active Adults 55+ Intro to Golf for Women* \nLadies\, It’s your time to tee off! \nJoin our 6 week ‘Intro to Golf’ programme\, specifically designed for beginners aged 55 and up! Learn the basics\, build confidence and have fun in a supportive\, relaxing setting. \nDate: Programme begins on Thursday\, August 28th and will run for 6 weeks \nTime: 10am – 11am \nLocation: Cavan Golf Club \nCost: €30 \nInformation: All equipment will be provided. Spaces are limited and pre-registration is essential. \nFor more information\, please email lorourke@cavancoco.ie
URL:https://cavansportspartnership.ie/event/active-adults-55-intro-to-golf-for-women/
LOCATION:Cavan Golf Club\, H12F3A2\, Ireland
ATTACH;FMTTYPE=image/png:https://cavansportspartnership.ie/wp-content/uploads/2025/08/AA55-Intro-to-golf-Women.png
ORGANIZER;CN="Cavan Sports Partnership":MAILTO:info@cavansportspartnership.ie
END:VEVENT
END:VCALENDAR