BEGIN:VCALENDAR
VERSION:2.0
PRODID:-//Cavan Sports Partnership - ECPv6.15.20//NONSGML v1.0//EN
CALSCALE:GREGORIAN
METHOD:PUBLISH
X-WR-CALNAME:Cavan Sports Partnership
X-ORIGINAL-URL:https://cavansportspartnership.ie
X-WR-CALDESC:Events for Cavan Sports Partnership
REFRESH-INTERVAL;VALUE=DURATION:PT1H
X-Robots-Tag:noindex
X-PUBLISHED-TTL:PT1H
BEGIN:VTIMEZONE
TZID:Europe/Dublin
BEGIN:STANDARD
TZOFFSETFROM:+0000
TZOFFSETTO:+0100
TZNAME:IST
DTSTART:20250330T010000
END:STANDARD
BEGIN:DAYLIGHT
TZOFFSETFROM:+0100
TZOFFSETTO:+0000
TZNAME:GMT
DTSTART:20251026T010000
END:DAYLIGHT
BEGIN:STANDARD
TZOFFSETFROM:+0000
TZOFFSETTO:+0100
TZNAME:IST
DTSTART:20260329T010000
END:STANDARD
BEGIN:DAYLIGHT
TZOFFSETFROM:+0100
TZOFFSETTO:+0000
TZNAME:GMT
DTSTART:20261025T010000
END:DAYLIGHT
BEGIN:STANDARD
TZOFFSETFROM:+0000
TZOFFSETTO:+0100
TZNAME:IST
DTSTART:20270328T010000
END:STANDARD
BEGIN:DAYLIGHT
TZOFFSETFROM:+0100
TZOFFSETTO:+0000
TZNAME:GMT
DTSTART:20271031T010000
END:DAYLIGHT
END:VTIMEZONE
BEGIN:VEVENT
DTSTART;TZID=Europe/Dublin:20260326T180000
DTEND;TZID=Europe/Dublin:20260430T190000
DTSTAMP:20260425T112245
CREATED:20260310T163817Z
LAST-MODIFIED:20260310T164307Z
UID:5291-1774548000-1777575600@cavansportspartnership.ie
SUMMARY:Active Adults 50+  Strength & Conditioning Cootehill
DESCRIPTION:Active Adults 50+ \nStrength & Conditioning (S&C) is one of the most beneficial forms of training for people over 50. It supports healthy ageing\, boosts long‑term independence\, and reduces the risk of many age‑related issues.\n\nWe are delighted to run a 6 week Strength & Conditioning programme with Breakthrough Performance in Cootehill\n\nDate: Programme begins on Thursday\, March 26th and runs every Thursday after for 6 weeks\nTime: 6pm\nLocation: Breakthrough Performance\, Cootehill\nCost: €30 for the 6 weeks\n\n\nPlease note: \n• Cancellations made more than 48 hours before the programme start date/time are eligible for a full refund.\n• Cancellations made less than 48 hours before the programme start date/time are non‑refundable.\n\n\n\nThis policy ensures fairness and allows us to manage scheduling\, resources\, and programme preparation effectively. \nBy booking\, you acknowledge and agree to these terms.
URL:https://cavansportspartnership.ie/event/active-adults-50-strength-training/
LOCATION:Breakthrough Performance Gym\, Cootehill\, H16 CV91\, Ireland
ATTACH;FMTTYPE=image/png:https://cavansportspartnership.ie/wp-content/uploads/2026/03/Breakthrough-Performance-Cootehill.png
ORGANIZER;CN="Cavan Sports Partnership":MAILTO:info@cavansportspartnership.ie
END:VEVENT
END:VCALENDAR