BEGIN:VCALENDAR
VERSION:2.0
PRODID:-//Cavan Sports Partnership - ECPv6.15.20//NONSGML v1.0//EN
CALSCALE:GREGORIAN
METHOD:PUBLISH
X-WR-CALNAME:Cavan Sports Partnership
X-ORIGINAL-URL:https://cavansportspartnership.ie
X-WR-CALDESC:Events for Cavan Sports Partnership
REFRESH-INTERVAL;VALUE=DURATION:PT1H
X-Robots-Tag:noindex
X-PUBLISHED-TTL:PT1H
BEGIN:VTIMEZONE
TZID:Europe/Dublin
BEGIN:STANDARD
TZOFFSETFROM:+0000
TZOFFSETTO:+0100
TZNAME:IST
DTSTART:20250330T010000
END:STANDARD
BEGIN:DAYLIGHT
TZOFFSETFROM:+0100
TZOFFSETTO:+0000
TZNAME:GMT
DTSTART:20251026T010000
END:DAYLIGHT
BEGIN:STANDARD
TZOFFSETFROM:+0000
TZOFFSETTO:+0100
TZNAME:IST
DTSTART:20260329T010000
END:STANDARD
BEGIN:DAYLIGHT
TZOFFSETFROM:+0100
TZOFFSETTO:+0000
TZNAME:GMT
DTSTART:20261025T010000
END:DAYLIGHT
BEGIN:STANDARD
TZOFFSETFROM:+0000
TZOFFSETTO:+0100
TZNAME:IST
DTSTART:20270328T010000
END:STANDARD
BEGIN:DAYLIGHT
TZOFFSETFROM:+0100
TZOFFSETTO:+0000
TZNAME:GMT
DTSTART:20271031T010000
END:DAYLIGHT
END:VTIMEZONE
BEGIN:VEVENT
DTSTART;TZID=Europe/Dublin:20260324T163000
DTEND;TZID=Europe/Dublin:20260414T173000
DTSTAMP:20260425T130450
CREATED:20260309T140028Z
LAST-MODIFIED:20260309T140053Z
UID:5267-1774369800-1776187800@cavansportspartnership.ie
SUMMARY:4 week Inclusion Martial Arts Programme
DESCRIPTION:Martial arts can be an excellent developmental tool for children as well as having many physical benefits. It can improve strength\, balance and coordination through controlled movement. There are also social and communication benefits attached to this programme\, it’s great for socialising with others and communicating in a safe and respectful environment.\n\nDate: 4 week programme begins on Tuesday\, March 24th\nTime: 4:30pm\nLocation: Black Dragon\, Moynehall\, Cavan\nCost: €15pp
URL:https://cavansportspartnership.ie/event/4-week-inclusion-martial-arts-programme/
LOCATION:Blackdragon\, Unit 1 Moynehall\, Cavan\, H12 E0P9\, Ireland
ATTACH;FMTTYPE=image/png:https://cavansportspartnership.ie/wp-content/uploads/2026/03/Female-self-defense-.png
END:VEVENT
END:VCALENDAR